Workbook

Sheet Fees
A1: Unit | B1: Share | C1: Per year | D1: Per instalment
A2: =IF('Units'!A2="","",'Units'!A2) | B2: =IF(A2="","",'Units'!E2) | C2: =IF(A2="","",('Units'!D2/SUM('Units'!$D$2:$D$41)*'Budget'!$B$33+IF('Units'!D2>0,'Budget'!$B$34/COUNTIF('Units'!$D$2:$D$41,">0"),0))*(1+'Budget'!$B$35/100)) | D2: =IF(A2="","",ROUND(C2/'Budget'!$B$36,2))
A3: =IF('Units'!A3="","",'Units'!A3) | B3: =IF(A3="","",'Units'!E3) | C3: =IF(A3="","",('Units'!D3/SUM('Units'!$D$2:$D$41)*'Budget'!$B$33+IF('Units'!D3>0,'Budget'!$B$34/COUNTIF('Units'!$D$2:$D$41,">0"),0))*(1+'Budget'!$B$35/100)) | D3: =IF(A3="","",ROUND(C3/'Budget'!$B$36,2))
A4: =IF('Units'!A4="","",'Units'!A4) | B4: =IF(A4="","",'Units'!E4) | C4: =IF(A4="","",('Units'!D4/SUM('Units'!$D$2:$D$41)*'Budget'!$B$33+IF('Units'!D4>0,'Budget'!$B$34/COUNTIF('Units'!$D$2:$D$41,">0"),0))*(1+'Budget'!$B$35/100)) | D4: =IF(A4="","",ROUND(C4/'Budget'!$B$36,2))
A5: =IF('Units'!A5="","",'Units'!A5) | B5: =IF(A5="","",'Units'!E5) | C5: =IF(A5="","",('Units'!D5/SUM('Units'!$D$2:$D$41)*'Budget'!$B$33+IF('Units'!D5>0,'Budget'!$B$34/COUNTIF('Units'!$D$2:$D$41,">0"),0))*(1+'Budget'!$B$35/100)) | D5: =IF(A5="","",ROUND(C5/'Budget'!$B$36,2))
A6: =IF('Units'!A6="","",'Units'!A6) | B6: =IF(A6="","",'Units'!E6) | C6: =IF(A6="","",('Units'!D6/SUM('Units'!$D$2:$D$41)*'Budget'!$B$33+IF('Units'!D6>0,'Budget'!$B$34/COUNTIF('Units'!$D$2:$D$41,">0"),0))*(1+'Budget'!$B$35/100)) | D6: =IF(A6="","",ROUND(C6/'Budget'!$B$36,2))
A7: =IF('Units'!A7="","",'Units'!A7) | B7: =IF(A7="","",'Units'!E7) | C7: =IF(A7="","",('Units'!D7/SUM('Units'!$D$2:$D$41)*'Budget'!$B$33+IF('Units'!D7>0,'Budget'!$B$34/COUNTIF('Units'!$D$2:$D$41,">0"),0))*(1+'Budget'!$B$35/100)) | D7: =IF(A7="","",ROUND(C7/'Budget'!$B$36,2))
A8: =IF('Units'!A8="","",'Units'!A8) | B8: =IF(A8="","",'Units'!E8) | C8: =IF(A8="","",('Units'!D8/SUM('Units'!$D$2:$D$41)*'Budget'!$B$33+IF('Units'!D8>0,'Budget'!$B$34/COUNTIF('Units'!$D$2:$D$41,">0"),0))*(1+'Budget'!$B$35/100)) | D8: =IF(A8="","",ROUND(C8/'Budget'!$B$36,2))
A9: =IF('Units'!A9="","",'Units'!A9) | B9: =IF(A9="","",'Units'!E9) | C9: =IF(A9="","",('Units'!D9/SUM('Units'!$D$2:$D$41)*'Budget'!$B$33+IF('Units'!D9>0,'Budget'!$B$34/COUNTIF('Units'!$D$2:$D$41,">0"),0))*(1+'Budget'!$B$35/100)) | D9: =IF(A9="","",ROUND(C9/'Budget'!$B$36,2))
A10: =IF('Units'!A10="","",'Units'!A10) | B10: =IF(A10="","",'Units'!E10) | C10: =IF(A10="","",('Units'!D10/SUM('Units'!$D$2:$D$41)*'Budget'!$B$33+IF('Units'!D10>0,'Budget'!$B$34/COUNTIF('Units'!$D$2:$D$41,">0"),0))*(1+'Budget'!$B$35/100)) | D10: =IF(A10="","",ROUND(C10/'Budget'!$B$36,2))
A11: =IF('Units'!A11="","",'Units'!A11) | B11: =IF(A11="","",'Units'!E11) | C11: =IF(A11="","",('Units'!D11/SUM('Units'!$D$2:$D$41)*'Budget'!$B$33+IF('Units'!D11>0,'Budget'!$B$34/COUNTIF('Units'!$D$2:$D$41,">0"),0))*(1+'Budget'!$B$35/100)) | D11: =IF(A11="","",ROUND(C11/'Budget'!$B$36,2))
A12: =IF('Units'!A12="","",'Units'!A12) | B12: =IF(A12="","",'Units'!E12) | C12: =IF(A12="","",('Units'!D12/SUM('Units'!$D$2:$D$41)*'Budget'!$B$33+IF('Units'!D12>0,'Budget'!$B$34/COUNTIF('Units'!$D$2:$D$41,">0"),0))*(1+'Budget'!$B$35/100)) | D12: =IF(A12="","",ROUND(C12/'Budget'!$B$36,2))
A13: =IF('Units'!A13="","",'Units'!A13) | B13: =IF(A13="","",'Units'!E13) | C13: =IF(A13="","",('Units'!D13/SUM('Units'!$D$2:$D$41)*'Budget'!$B$33+IF('Units'!D13>0,'Budget'!$B$34/COUNTIF('Units'!$D$2:$D$41,">0"),0))*(1+'Budget'!$B$35/100)) | D13: =IF(A13="","",ROUND(C13/'Budget'!$B$36,2))
... A41: =IF('Units'!A41="","",'Units'!A41) | B41: =IF(A41="","",'Units'!E41) | C41: =IF(A41="","",('Units'!D41/SUM('Units'!$D$2:$D$41)*'Budget'!$B$33+IF('Units'!D41>0,'Budget'!$B$34/COUNTIF('Units'!$D$2:$D$41,">0"),0))*(1+'Budget'!$B$35/100)) | D41: =IF(A41="","",ROUND(C41/'Budget'!$B$36,2))
A42: Total | B42: =SUM(B2:B41) | C42: =SUM(C2:C41) | D42: =SUM(D2:D41)
A44: Fill in the units and the budget; the shares and fees work themselves out.
A45: Made with Moradot — moradot.com. Free to use: every owner sees their share and each instalment.

Sheet Units
A1: Name | B1: Floor area (m²) | C1: Weight | D1: Weighted area (m²) | E1: Share
A2: Shop | B2: 85 | C2: 1.2 | D2: =IF(A2="","",B2*C2) | E2: =IF(A2="","",D2/SUM($D$2:$D$41)*100)
A3: Flat 1A | B3: 70 | C3: 1 | D3: =IF(A3="","",B3*C3) | E3: =IF(A3="","",D3/SUM($D$2:$D$41)*100)
A4: Flat 1B | B4: 92 | C4: 1 | D4: =IF(A4="","",B4*C4) | E4: =IF(A4="","",D4/SUM($D$2:$D$41)*100)
A5: Flat 2A | B5: 70 | C5: 1 | D5: =IF(A5="","",B5*C5) | E5: =IF(A5="","",D5/SUM($D$2:$D$41)*100)
A6: Flat 2B | B6: 92 | C6: 1 | D6: =IF(A6="","",B6*C6) | E6: =IF(A6="","",D6/SUM($D$2:$D$41)*100)
A7: Garage 1 | B7: 14 | C7: 0.6 | D7: =IF(A7="","",B7*C7) | E7: =IF(A7="","",D7/SUM($D$2:$D$41)*100)
D8: =IF(A8="","",B8*C8) | E8: =IF(A8="","",D8/SUM($D$2:$D$41)*100)
D9: =IF(A9="","",B9*C9) | E9: =IF(A9="","",D9/SUM($D$2:$D$41)*100)
D10: =IF(A10="","",B10*C10) | E10: =IF(A10="","",D10/SUM($D$2:$D$41)*100)
D11: =IF(A11="","",B11*C11) | E11: =IF(A11="","",D11/SUM($D$2:$D$41)*100)
D12: =IF(A12="","",B12*C12) | E12: =IF(A12="","",D12/SUM($D$2:$D$41)*100)
D13: =IF(A13="","",B13*C13) | E13: =IF(A13="","",D13/SUM($D$2:$D$41)*100)
D14: =IF(A14="","",B14*C14) | E14: =IF(A14="","",D14/SUM($D$2:$D$41)*100)
D15: =IF(A15="","",B15*C15) | E15: =IF(A15="","",D15/SUM($D$2:$D$41)*100)
D16: =IF(A16="","",B16*C16) | E16: =IF(A16="","",D16/SUM($D$2:$D$41)*100)
D17: =IF(A17="","",B17*C17) | E17: =IF(A17="","",D17/SUM($D$2:$D$41)*100)
D18: =IF(A18="","",B18*C18) | E18: =IF(A18="","",D18/SUM($D$2:$D$41)*100)
D19: =IF(A19="","",B19*C19) | E19: =IF(A19="","",D19/SUM($D$2:$D$41)*100)
... D41: =IF(A41="","",B41*C41) | E41: =IF(A41="","",D41/SUM($D$2:$D$41)*100)
A42: Total | B42: =SUM(B2:B41) | E42: =SUM(E2:E41)

Sheet Budget
A1: Expense | B1: Per year (€) | C1: Split
A2: Cleaning | B2: 3000 | C2: By share
A3: Common electricity | B3: 1200 | C3: By share
A4: Lift maintenance | B4: 2400 | C4: By share
A5: Building insurance | B5: 1100 | C5: By share
A6: Administration | B6: 1800 | C6: Equally
C7: By share
C8: By share
C9: By share
C10: By share
C11: By share
C12: By share
C13: By share
C14: By share
C15: By share
C16: By share
C17: By share
C18: By share
... C31: By share
A33: Split by share | B33: =SUMIF(C2:C31,"By share",B2:B31)
A34: Split equally | B34: =SUMIF(C2:C31,"Equally",B2:B31)
A35: Reserve fund (% on top) | B35: 10
A36: Instalments per year | B36: 12
