Workbook

Sheet Zaliczki
A1: Lokal | B1: Udział | C1: Rocznie | D1: Zaliczka miesięczna
A2: =IF('Lokale'!A2="","",'Lokale'!A2) | B2: =IF(A2="","",'Lokale'!D2) | C2: =IF(A2="","",('Lokale'!C2/SUM('Lokale'!$C$2:$C$41)*'Plan gospodarczy'!$B$33+IF('Lokale'!C2>0,'Plan gospodarczy'!$B$34/COUNTIF('Lokale'!$C$2:$C$41,">0"),0))*(1+'Plan gospodarczy'!$B$35/100)) | D2: =IF(A2="","",ROUND(C2/'Plan gospodarczy'!$B$36,2))
A3: =IF('Lokale'!A3="","",'Lokale'!A3) | B3: =IF(A3="","",'Lokale'!D3) | C3: =IF(A3="","",('Lokale'!C3/SUM('Lokale'!$C$2:$C$41)*'Plan gospodarczy'!$B$33+IF('Lokale'!C3>0,'Plan gospodarczy'!$B$34/COUNTIF('Lokale'!$C$2:$C$41,">0"),0))*(1+'Plan gospodarczy'!$B$35/100)) | D3: =IF(A3="","",ROUND(C3/'Plan gospodarczy'!$B$36,2))
A4: =IF('Lokale'!A4="","",'Lokale'!A4) | B4: =IF(A4="","",'Lokale'!D4) | C4: =IF(A4="","",('Lokale'!C4/SUM('Lokale'!$C$2:$C$41)*'Plan gospodarczy'!$B$33+IF('Lokale'!C4>0,'Plan gospodarczy'!$B$34/COUNTIF('Lokale'!$C$2:$C$41,">0"),0))*(1+'Plan gospodarczy'!$B$35/100)) | D4: =IF(A4="","",ROUND(C4/'Plan gospodarczy'!$B$36,2))
A5: =IF('Lokale'!A5="","",'Lokale'!A5) | B5: =IF(A5="","",'Lokale'!D5) | C5: =IF(A5="","",('Lokale'!C5/SUM('Lokale'!$C$2:$C$41)*'Plan gospodarczy'!$B$33+IF('Lokale'!C5>0,'Plan gospodarczy'!$B$34/COUNTIF('Lokale'!$C$2:$C$41,">0"),0))*(1+'Plan gospodarczy'!$B$35/100)) | D5: =IF(A5="","",ROUND(C5/'Plan gospodarczy'!$B$36,2))
A6: =IF('Lokale'!A6="","",'Lokale'!A6) | B6: =IF(A6="","",'Lokale'!D6) | C6: =IF(A6="","",('Lokale'!C6/SUM('Lokale'!$C$2:$C$41)*'Plan gospodarczy'!$B$33+IF('Lokale'!C6>0,'Plan gospodarczy'!$B$34/COUNTIF('Lokale'!$C$2:$C$41,">0"),0))*(1+'Plan gospodarczy'!$B$35/100)) | D6: =IF(A6="","",ROUND(C6/'Plan gospodarczy'!$B$36,2))
A7: =IF('Lokale'!A7="","",'Lokale'!A7) | B7: =IF(A7="","",'Lokale'!D7) | C7: =IF(A7="","",('Lokale'!C7/SUM('Lokale'!$C$2:$C$41)*'Plan gospodarczy'!$B$33+IF('Lokale'!C7>0,'Plan gospodarczy'!$B$34/COUNTIF('Lokale'!$C$2:$C$41,">0"),0))*(1+'Plan gospodarczy'!$B$35/100)) | D7: =IF(A7="","",ROUND(C7/'Plan gospodarczy'!$B$36,2))
A8: =IF('Lokale'!A8="","",'Lokale'!A8) | B8: =IF(A8="","",'Lokale'!D8) | C8: =IF(A8="","",('Lokale'!C8/SUM('Lokale'!$C$2:$C$41)*'Plan gospodarczy'!$B$33+IF('Lokale'!C8>0,'Plan gospodarczy'!$B$34/COUNTIF('Lokale'!$C$2:$C$41,">0"),0))*(1+'Plan gospodarczy'!$B$35/100)) | D8: =IF(A8="","",ROUND(C8/'Plan gospodarczy'!$B$36,2))
A9: =IF('Lokale'!A9="","",'Lokale'!A9) | B9: =IF(A9="","",'Lokale'!D9) | C9: =IF(A9="","",('Lokale'!C9/SUM('Lokale'!$C$2:$C$41)*'Plan gospodarczy'!$B$33+IF('Lokale'!C9>0,'Plan gospodarczy'!$B$34/COUNTIF('Lokale'!$C$2:$C$41,">0"),0))*(1+'Plan gospodarczy'!$B$35/100)) | D9: =IF(A9="","",ROUND(C9/'Plan gospodarczy'!$B$36,2))
A10: =IF('Lokale'!A10="","",'Lokale'!A10) | B10: =IF(A10="","",'Lokale'!D10) | C10: =IF(A10="","",('Lokale'!C10/SUM('Lokale'!$C$2:$C$41)*'Plan gospodarczy'!$B$33+IF('Lokale'!C10>0,'Plan gospodarczy'!$B$34/COUNTIF('Lokale'!$C$2:$C$41,">0"),0))*(1+'Plan gospodarczy'!$B$35/100)) | D10: =IF(A10="","",ROUND(C10/'Plan gospodarczy'!$B$36,2))
A11: =IF('Lokale'!A11="","",'Lokale'!A11) | B11: =IF(A11="","",'Lokale'!D11) | C11: =IF(A11="","",('Lokale'!C11/SUM('Lokale'!$C$2:$C$41)*'Plan gospodarczy'!$B$33+IF('Lokale'!C11>0,'Plan gospodarczy'!$B$34/COUNTIF('Lokale'!$C$2:$C$41,">0"),0))*(1+'Plan gospodarczy'!$B$35/100)) | D11: =IF(A11="","",ROUND(C11/'Plan gospodarczy'!$B$36,2))
A12: =IF('Lokale'!A12="","",'Lokale'!A12) | B12: =IF(A12="","",'Lokale'!D12) | C12: =IF(A12="","",('Lokale'!C12/SUM('Lokale'!$C$2:$C$41)*'Plan gospodarczy'!$B$33+IF('Lokale'!C12>0,'Plan gospodarczy'!$B$34/COUNTIF('Lokale'!$C$2:$C$41,">0"),0))*(1+'Plan gospodarczy'!$B$35/100)) | D12: =IF(A12="","",ROUND(C12/'Plan gospodarczy'!$B$36,2))
A13: =IF('Lokale'!A13="","",'Lokale'!A13) | B13: =IF(A13="","",'Lokale'!D13) | C13: =IF(A13="","",('Lokale'!C13/SUM('Lokale'!$C$2:$C$41)*'Plan gospodarczy'!$B$33+IF('Lokale'!C13>0,'Plan gospodarczy'!$B$34/COUNTIF('Lokale'!$C$2:$C$41,">0"),0))*(1+'Plan gospodarczy'!$B$35/100)) | D13: =IF(A13="","",ROUND(C13/'Plan gospodarczy'!$B$36,2))
... A41: =IF('Lokale'!A41="","",'Lokale'!A41) | B41: =IF(A41="","",'Lokale'!D41) | C41: =IF(A41="","",('Lokale'!C41/SUM('Lokale'!$C$2:$C$41)*'Plan gospodarczy'!$B$33+IF('Lokale'!C41>0,'Plan gospodarczy'!$B$34/COUNTIF('Lokale'!$C$2:$C$41,">0"),0))*(1+'Plan gospodarczy'!$B$35/100)) | D41: =IF(A41="","",ROUND(C41/'Plan gospodarczy'!$B$36,2))
A42: Razem | B42: =SUM(B2:B41) | C42: =SUM(C2:C41) | D42: =SUM(D2:D41)
A44: Uzupełnij lokale i plan gospodarczy, a udziały i zaliczki policzą się same.
A45: Wzór od Moradot (moradot.com). Korzystanie jest bezpłatne, a każdy właściciel widzi tam swój udział i każdą zaliczkę.

Sheet Lokale
A1: Lokal | B1: Powierzchnia (m²) | C1: Powierzchnia (m²) | D1: Udział
A2: Lokal użytkowy | B2: 95 | C2: =IF(A2="","",B2) | D2: =IF(A2="","",C2/SUM($C$2:$C$41)*100)
A3: Lokal 1 | B3: 54.3 | C3: =IF(A3="","",B3) | D3: =IF(A3="","",C3/SUM($C$2:$C$41)*100)
A4: Lokal 2 | B4: 61.8 | C4: =IF(A4="","",B4) | D4: =IF(A4="","",C4/SUM($C$2:$C$41)*100)
A5: Lokal 3 | B5: 48.2 | C5: =IF(A5="","",B5) | D5: =IF(A5="","",C5/SUM($C$2:$C$41)*100)
A6: Lokal 4 | B6: 72.5 | C6: =IF(A6="","",B6) | D6: =IF(A6="","",C6/SUM($C$2:$C$41)*100)
A7: Lokal 5 | B7: 54.3 | C7: =IF(A7="","",B7) | D7: =IF(A7="","",C7/SUM($C$2:$C$41)*100)
C8: =IF(A8="","",B8) | D8: =IF(A8="","",C8/SUM($C$2:$C$41)*100)
C9: =IF(A9="","",B9) | D9: =IF(A9="","",C9/SUM($C$2:$C$41)*100)
C10: =IF(A10="","",B10) | D10: =IF(A10="","",C10/SUM($C$2:$C$41)*100)
C11: =IF(A11="","",B11) | D11: =IF(A11="","",C11/SUM($C$2:$C$41)*100)
C12: =IF(A12="","",B12) | D12: =IF(A12="","",C12/SUM($C$2:$C$41)*100)
C13: =IF(A13="","",B13) | D13: =IF(A13="","",C13/SUM($C$2:$C$41)*100)
C14: =IF(A14="","",B14) | D14: =IF(A14="","",C14/SUM($C$2:$C$41)*100)
C15: =IF(A15="","",B15) | D15: =IF(A15="","",C15/SUM($C$2:$C$41)*100)
C16: =IF(A16="","",B16) | D16: =IF(A16="","",C16/SUM($C$2:$C$41)*100)
C17: =IF(A17="","",B17) | D17: =IF(A17="","",C17/SUM($C$2:$C$41)*100)
C18: =IF(A18="","",B18) | D18: =IF(A18="","",C18/SUM($C$2:$C$41)*100)
C19: =IF(A19="","",B19) | D19: =IF(A19="","",C19/SUM($C$2:$C$41)*100)
... C41: =IF(A41="","",B41) | D41: =IF(A41="","",C41/SUM($C$2:$C$41)*100)
A42: Razem | B42: =SUM(B2:B41) | D42: =SUM(D2:D41)

Sheet Plan gospodarczy
A1: Koszt | B1: Rocznie (zł)
A2: Sprzątanie | B2: 9600
A3: Energia elektryczna części wspólnych | B3: 3600
A4: Ubezpieczenie budynku | B4: 2400
A5: Wynagrodzenie zarządcy | B5: 7200
A6: Fundusz remontowy | B6: 12000
A33: Koszty razem | B33: =SUM(B2:B31)
B34: 0
A35: Fundusz remontowy (% kosztów) | B35: 0
A36: Liczba zaliczek w roku | B36: 12
